BEGIN:VCALENDAR
VERSION:2.0
PRODID:-//MetroPlan Orlando - ECPv4.7.3//NONSGML v1.0//EN
CALSCALE:GREGORIAN
METHOD:PUBLISH
X-ORIGINAL-URL:https://metroplanorlando.gov
X-WR-CALDESC:Events for MetroPlan Orlando
BEGIN:VEVENT
TZID:America/New_York
DTSTART:20230628T093000
DTEND:20230628T113000
DTSTAMP:20260419T190218
CREATED:20230220T220135Z
LAST-MODIFIED:20230901T121615Z
UID:16913-1687944600-1687951800@metroplanorlando.gov
SUMMARY:Community Advisory Committee
DESCRIPTION:The Community Advisory Committee (CAC) ensures the public has the opportunity to review and evaluate proposed transportation plans prior to adoption by the MetroPlan Orlando Board. \nVIRTUAL PUBLIC ACCESS \n\nPlease click the link below to join the webinar:\nhttps://us02web.zoom.us/j/83662840521?pwd=MkNCQUlCdHdBcTBlU1NSd0hWempTZz09\nPasscode: 885822Or Telephone:\nDial(for higher quality\, dial a number based on your current location):\n+1 305 224 1968 US\n+1 929 436 2866 US (New York)\n+1 301 715 8592 US (Washington DC)\n+1 309 205 3325 US\n+1 312 626 6799 US (Chicago)\n+1 646 931 3860 US\n+1 386 347 5053 US\n+1 507 473 4847 US\n+1 564 217 2000 US\n+1 669 444 9171 US\n+1 669 900 6833 US (San Jose)\n+1 689 278 1000 US\n+1 719 359 4580 US\n+1 253 205 0468 US\n+1 253 215 8782 US (Tacoma)\n+1 346 248 7799 US (Houston)\n+1 360 209 5623 US\nWebinar ID: 836 6284 0521\nPasscode: 885822\n\n\nMAKING PUBLIC COMMENTS \nIf you’d like to make a public comment at this meeting\, please fill out a Speaker Card ahead of time (MetroPlanOrlando.org/SpeakerCard) to let MetroPlan Orlando staff know whether you will be making your comment from a virtual setting or whether you plan on attending in person. This will help us facilitate a more seamless\, touchless process for commenting. \n\n
URL:https://metroplanorlando.gov/meetings/community-advisory-committee-06-28-23/
LOCATION:MetroPlan Orlando Boardroom/Virtual Public Access\, 250 S. Orange Ave.\, Suite 200\, Orlando\, FL\, 32801
CATEGORIES:Committees,Community Advisory Committee
ORGANIZER;CN="Rachel%20Frederick":MAILTO:Rachel.Frederick@MetroPlanOrlando.gov
END:VEVENT
END:VCALENDAR