BEGIN:VCALENDAR
VERSION:2.0
PRODID:-//MetroPlan Orlando - ECPv4.7.3//NONSGML v1.0//EN
CALSCALE:GREGORIAN
METHOD:PUBLISH
X-ORIGINAL-URL:https://metroplanorlando.gov
X-WR-CALDESC:Events for MetroPlan Orlando
BEGIN:VEVENT
TZID:America/New_York
DTSTART:20260326T100000
DTEND:20260326T123000
DTSTAMP:20260420T084236
CREATED:20260309T171759Z
LAST-MODIFIED:20260325T171859Z
UID:24410-1774519200-1774528200@metroplanorlando.gov
SUMMARY:Central Florida MPO Alliance Director's Meeting (In Person)
DESCRIPTION:The Central Florida MPO Alliance (CFMPOA) Directors will meet in person at MetroPlan Orlando on Thursday\, March 26\, 2026 from 10-12:30.  Please contact Lisa Smith\, Sr. Board Services Coordinator at 40-481-5672\, ext. 307. \n
URL:https://metroplanorlando.gov/meetings/central-florida-mpo-alliance-directors-meeting-in-person-03-26-26/
LOCATION:MetroPlan Orlando\, 250 S. Orange Ave.\, Suite 200\, Orlando\, FL\, 32801\, United States
GEO:28.5394075;-81.3797567
X-APPLE-STRUCTURED-LOCATION;VALUE=URI;X-ADDRESS=MetroPlan Orlando 250 S. Orange Ave. Suite 200 Orlando FL 32801 United States;X-APPLE-RADIUS=500;X-TITLE=250 S. Orange Ave.\, Suite 200:geo:-81.3797567,28.5394075
CATEGORIES:Central Florida MPO Alliance
END:VEVENT
END:VCALENDAR