BEGIN:VCALENDAR
VERSION:2.0
PRODID:-//MetroPlan Orlando - ECPv4.7.3//NONSGML v1.0//EN
CALSCALE:GREGORIAN
METHOD:PUBLISH
X-ORIGINAL-URL:https://metroplanorlando.gov
X-WR-CALDESC:Events for MetroPlan Orlando
BEGIN:VEVENT
TZID:America/New_York
DTSTART:20260408T140000
DTEND:20260408T153000
DTSTAMP:20260423T044610
CREATED:20260331T140935Z
LAST-MODIFIED:20260331T154328Z
UID:24514-1775656800-1775662200@metroplanorlando.gov
SUMMARY:Coordinating Speed Management Strategies with Emergency Response - Roundtable 2
DESCRIPTION:This meeting will convene planning\, engineering and fire safety practitioners to discuss the issues\, challenges and solutions related to managing the effects of speed management strategies on emergency response times. Project team members will provide an overview of the findings of a white paper on this topic and attendees will discuss potential next steps for the region. \nFor more information\, please contact Ms. Lara Bouck\, Lara.Bouck@metroplanorlando.gov (407) 481-5672\, ext. 337 \nThis is an in person meeting. \nVirtual Public Access:\nhttps://us02web.zoom.us/j/88205185492?pwd=UeRC5MxkVyQg7NfZ3uXpfaDvlbNiHG.1\nPasscode:959966 \nJoin via audio:\n+1 305 224 1968\n+1 646 931 3860\n+1 929 436 2866\n+1 301 715 8592 \nWebinar ID: 882 0518 5492\nPasscode: 959966 \nPUBLIC COMMENTS \nIf you’d like to make a public comment at this meeting\, please fill out a Speaker Card ahead of time (MetroPlanOrlando.gov/SpeakerCard) to let MetroPlan Orlando staff know whether you will be making your comment from a virtual setting or whether you plan on attending in person. This will help us facilitate a more seamless\, touchless process for commenting. \nThis posting is in compliance with Florida’s Government-in-the-Sunshine laws. \n
URL:https://metroplanorlando.gov/meetings/coordinating-speed-management-strategies-with-emergency-response-roundtable-2-04-08-26/
LOCATION:MetroPlan Orlando Board Room\, 250 S. Orange Ave.\, Suite 200\, Orlando\, FL\, 32801\, United States
GEO:28.5394075;-81.3797567
X-APPLE-STRUCTURED-LOCATION;VALUE=URI;X-ADDRESS=MetroPlan Orlando Board Room 250 S. Orange Ave. Suite 200 Orlando FL 32801 United States;X-APPLE-RADIUS=500;X-TITLE=250 S. Orange Ave.\, Suite 200:geo:-81.3797567,28.5394075
CATEGORIES:Vision Zero Task Force
ORGANIZER;CN="Rachel%20Frederick":MAILTO:Rachel.Frederick@MetroPlanOrlando.gov
END:VEVENT
END:VCALENDAR