BEGIN:VCALENDAR
VERSION:2.0
PRODID:-//MetroPlan Orlando - ECPv4.7.3//NONSGML v1.0//EN
CALSCALE:GREGORIAN
METHOD:PUBLISH
X-ORIGINAL-URL:https://metroplanorlando.gov
X-WR-CALDESC:Events for MetroPlan Orlando
BEGIN:VEVENT
TZID:America/New_York
DTSTART:20260422T084500
DTEND:20260422T091500
DTSTAMP:20260424T033854
CREATED:20260406T142159Z
LAST-MODIFIED:20260406T142159Z
UID:24539-1776847500-1776849300@metroplanorlando.gov
SUMMARY:CAC New Member Orientation
DESCRIPTION:This meeting is being posted in accordance with Florida’s Government in the Sunshine\, because two or more MetroPlan Orlando Board or Committee members may be present. \nFor further details\, please contact Ms. Mary Ann Horne (407) 481-5672\, ext. 305 MaryAnn.Horne@MetroPlanOrlando.gov \nThis is an in-person meeting only. \n
URL:https://metroplanorlando.gov/meetings/cac-new-member-orientation-04-22-26/
LOCATION:MetroPlan Orlando Board Room\, 250 S. Orange Ave.\, Suite 200\, Orlando\, FL\, 32801\, United States
GEO:28.5394075;-81.3797567
X-APPLE-STRUCTURED-LOCATION;VALUE=URI;X-ADDRESS=MetroPlan Orlando Board Room 250 S. Orange Ave. Suite 200 Orlando FL 32801 United States;X-APPLE-RADIUS=500;X-TITLE=250 S. Orange Ave.\, Suite 200:geo:-81.3797567,28.5394075
CATEGORIES:Committees,Community Advisory Committee
ORGANIZER;CN="Rachel%20Frederick":MAILTO:Rachel.Frederick@MetroPlanOrlando.gov
END:VEVENT
BEGIN:VEVENT
TZID:America/New_York
DTSTART:20260422T093000
DTEND:20260422T110000
DTSTAMP:20260424T033854
CREATED:20251126T154453Z
LAST-MODIFIED:20260422T163021Z
UID:23496-1776850200-1776855600@metroplanorlando.gov
SUMMARY:Community Advisory Committee (CAC)
DESCRIPTION:The Community Advisory Committee (CAC) ensures the public has the opportunity to review and evaluate proposed transportation plans prior to adoption by the MetroPlan Orlando Board. \nVIRTUAL PUBLIC ACCESS: \nhttps://us02web.zoom.us/j/81237148599?pwd=4ShoWa1MTt8Xu9eGXxxBynB3IaEbbb.1\nPasscode:757397 \nJoin via audio:\n+1 305 224 1968 US\n+1 309 205 3325 US\n+1 312 626 6799 US (Chicago) \nWebinar ID: 812 3714 8599\nPasscode: 757397 \nMAKING PUBLIC COMMENTS: \nIf you’d like to make a public comment at this meeting\, please fill out a Speaker Card ahead of time (MetroPlanOrlando.gov/SpeakerCard) to let MetroPlan Orlando staff know whether you will be making your comment from a virtual setting or whether you plan on attending in person. This will help us facilitate a more seamless\, touchless process for commenting. \n
URL:https://metroplanorlando.gov/meetings/community-advisory-committee-cac-04-22-26/
LOCATION:MetroPlan Orlando Board Room\, 250 S. Orange Ave.\, Suite 200\, Orlando\, FL\, 32801\, United States
GEO:28.5394075;-81.3797567
X-APPLE-STRUCTURED-LOCATION;VALUE=URI;X-ADDRESS=MetroPlan Orlando Board Room 250 S. Orange Ave. Suite 200 Orlando FL 32801 United States;X-APPLE-RADIUS=500;X-TITLE=250 S. Orange Ave.\, Suite 200:geo:-81.3797567,28.5394075
CATEGORIES:Committees,Community Advisory Committee
ORGANIZER;CN="Rachel%20Frederick":MAILTO:Rachel.Frederick@MetroPlanOrlando.gov
END:VEVENT
END:VCALENDAR