BEGIN:VCALENDAR
VERSION:2.0
PRODID:-//MetroPlan Orlando - ECPv4.7.3//NONSGML v1.0//EN
CALSCALE:GREGORIAN
METHOD:PUBLISH
X-ORIGINAL-URL:https://metroplanorlando.gov
X-WR-CALDESC:Events for MetroPlan Orlando
BEGIN:VEVENT
TZID:America/New_York
DTSTART:20250610T143000
DTEND:20250610T153000
DTSTAMP:20260422T133008
CREATED:20250519T161903Z
LAST-MODIFIED:20250519T161903Z
UID:22136-1749565800-1749569400@metroplanorlando.gov
SUMMARY:Virtual “Ask a Planner” Session: TIP
DESCRIPTION:MetroPlan Orlando will hold a virtual/online open house regarding the FY 2025/26 to FY 2029/30 Transportation Improvement Program (TIP). The meeting will include a question-and-answer period and an opportunity to provide public comments. Interested persons may join over the Internet from a computer\, tablet\, or mobile device on Wednesday\, June 10\, any time between 2:30 p.m. and 3:30 p.m.  Advanced registration is not required. \nVirtual Link: \nJoin from PC\, Mac\, iPad\, or Android:\nhttps://us02web.zoom.us/j/88525830281?pwd=UgxFNk4Sn4i5OROGSu0HKspoPTXmsy.1\nPasscode:966887 \nJoin via audio:\n+1 305 224 1968\n+1 929 436 2866\n+1 301 715 8592 \nWebinar ID: 885 2583 0281\nPasscode: 966887 \nFor information about the Transportation Improvement Program\, visit: https://metroplanorlando.gov/plans/transportation-improvement-program/ \nThose who cannot attend the online open house may view all materials online\, including the presentation\, and provide comment via email or through the TIP Online Viewer (https://metroplanorlando.gov/maps-tools/tipwebmap/). For additional information\, please contact Jason Sartorio at: TIP@MetroPlanOrlando.gov or 407-481-5672. \n
URL:https://metroplanorlando.gov/meetings/virtual-ask-a-planner-session-tip-06-10-25/
LOCATION:Virtual Meeting
CATEGORIES:Other Meetings,Public Meeting
ORGANIZER;CN="Rachel%20Frederick":MAILTO:Rachel.Frederick@MetroPlanOrlando.gov
END:VEVENT
END:VCALENDAR