BEGIN:VCALENDAR
VERSION:2.0
PRODID:-//MetroPlan Orlando - ECPv4.7.3//NONSGML v1.0//EN
CALSCALE:GREGORIAN
METHOD:PUBLISH
X-ORIGINAL-URL:https://metroplanorlando.gov
X-WR-CALDESC:Events for MetroPlan Orlando
BEGIN:VEVENT
TZID:America/New_York
DTSTART:20250630T120000
DTEND:20250630T130000
DTSTAMP:20260423T230326
CREATED:20250519T162418Z
LAST-MODIFIED:20250519T170432Z
UID:22138-1751284800-1751288400@metroplanorlando.gov
SUMMARY:Virtual “Ask a Planner” Session: TIP
DESCRIPTION:MetroPlan Orlando will hold a virtual/online open house regarding the FY 2025/26 to FY 2029/30 Transportation Improvement Program (TIP). The meeting will include a question-and-answer period and an opportunity to provide public comments. Interested persons may join over the Internet from a computer\, tablet\, or mobile device on Wednesday\, June 30\, any time between 12 p.m. and 1 p.m.  Advanced registration is not required. \nVirtual Link: \nJoin from PC\, Mac\, iPad\, or Android:\nhttps://us02web.zoom.us/j/88168803137?pwd=qaAblE0cXKOWBGbS9dLxZ3aKAgQufq.1\nPasscode:887843 \nJoin via audio:\n+1 305 224 1968\n+1 646 931 3860\n+1 929 436 2866 \nWebinar ID: 881 6880 3137\nPasscode: 887843 \nFor information about the Transportation Improvement Program\, visit: https://metroplanorlando.gov/plans/transportation-improvement-program/ \nThose who cannot attend the online open house may view all materials online\, including the presentation\, and provide comment via email or through the TIP Online Viewer (https://metroplanorlando.gov/maps-tools/tipwebmap/). For additional information\, please contact Jason Sartorio at: TIP@MetroPlanOrlando.gov or 407-481-5672. \n
URL:https://metroplanorlando.gov/meetings/virtual-ask-a-planner-session-tip-06-30-25/
LOCATION:Virutal Meeting
CATEGORIES:Other Meetings,Public Meeting
ORGANIZER;CN="Rachel%20Frederick":MAILTO:Rachel.Frederick@MetroPlanOrlando.gov
END:VEVENT
END:VCALENDAR