BEGIN:VCALENDAR
VERSION:2.0
PRODID:-//MetroPlan Orlando - ECPv4.7.3//NONSGML v1.0//EN
CALSCALE:GREGORIAN
METHOD:PUBLISH
X-ORIGINAL-URL:https://metroplanorlando.gov
X-WR-CALDESC:Events for MetroPlan Orlando
BEGIN:VEVENT
TZID:America/New_York
DTSTART:20190617T173000
DTEND:20190617T190000
DTSTAMP:20260421T185810
CREATED:20190521T173612Z
LAST-MODIFIED:20190614T133719Z
UID:8154-1560792600-1560798000@metroplanorlando.gov
SUMMARY:2020-2024 Transportation Improvement Program Public Meeting
DESCRIPTION:A public meeting will be held on the proposed 2020-2024 Transportation Improvement Program (TIP). MetroPlan Orlando is seeking input on the region’s five-year transportation plan. Maps will be available for viewing\, beginning at 5:30 p.m.\, with a presentation beginning at 6 p.m. at the Orlando Public Library in downtown Orlando. The meeting will be in the Cypress Room on the third floor\, and parking is available either at street meters nearby or in the city-owned garage on Central Boulevard\, directly across from the library. \nA draft version of the plan will be available online beginning about a week before the meeting. \nPublic comments can be given at the meeting or submitted in writing to MetroPlan Orlando\, 250 S. Orange Ave.\, Suite 200\, Orlando\, FL 32801 or by email to Info@MetroPlanOrlando.org up until 5 p.m. on July 1\, 2019. \nTo learn more about how the TIP is developed\, click here. \n
URL:https://metroplanorlando.gov/meetings/2020-2024-transportation-improvement-program-public-meeting-06-17-19/
LOCATION:Orlando Public Library\, Cypress Room (3rd floor)\, 101 E. Central Blvd.\, Orlando\, FL\, 32801\, United States
CATEGORIES:Other Meetings,Public Meeting
ORGANIZER;CN="Lisa%20Smith":MAILTO:Lisa.Smith@MetroPlanOrlando.gov
END:VEVENT
END:VCALENDAR