BEGIN:VCALENDAR
VERSION:2.0
PRODID:-//MetroPlan Orlando - ECPv4.7.3//NONSGML v1.0//EN
CALSCALE:GREGORIAN
METHOD:PUBLISH
X-ORIGINAL-URL:https://metroplanorlando.gov
X-WR-CALDESC:Events for MetroPlan Orlando
BEGIN:VEVENT
TZID:America/New_York
DTSTART:20241212T140000
DTEND:20241212T153000
DTSTAMP:20260420T085338
CREATED:20240130T194451Z
LAST-MODIFIED:20241213T130904Z
UID:19031-1734012000-1734017400@metroplanorlando.gov
SUMMARY:2050 MTP Technical Workshop #6
DESCRIPTION:The 2050 Metropolitan Transportation Plan (2050 MTP or 2050 Plan) establishes the vision of Central Florida’s entire transportation system for Orange\, Osceola\, and Seminole Counties. The 2050 Plan will examine the current transportation system\, establish goals and objectives\, and gather public input. A thorough technical analysis\, including performance measures\, will be used to evaluate needs and look at various future trends that might affect the system. Through coordination with local government and transportation agency partners\, the 2050 MTP will produce a cost feasible plan\, a list of projects that the region can afford. \nThis technical workshop series was established to support the 2050 Plan’s development and ensure a high-level of collaboration between MetroPlan Orlando and its partner agencies for this effort. To learn more about the 2050 MTP and how you can get involved\, visit MetroPlanOrlando.org/Draft2050Plan. \nVIRTUAL PUBLIC ACCESS:\nhttps://us02web.zoom.us/j/88549880435?pwd=Tkk0MUpZTzliZVU1WVFaRUlLanRBUT09\nPasscode:234610 \nPhone one-tap:\n+1 305 224 1968\n+1 301 715 8592\n+1 309 205 3325 \nWebinar ID: 885 4988 0435\nPasscode: 234610 \n
URL:https://metroplanorlando.gov/meetings/2050-mtp-technical-workshop-6-12-12-24/
LOCATION:Virtual Meeting
CATEGORIES:Other Meetings,Working Groups
ORGANIZER;CN="Rachel%20Frederick":MAILTO:Rachel.Frederick@MetroPlanOrlando.gov
END:VEVENT
END:VCALENDAR