BEGIN:VCALENDAR
VERSION:2.0
PRODID:-//MetroPlan Orlando - ECPv4.7.3//NONSGML v1.0//EN
CALSCALE:GREGORIAN
METHOD:PUBLISH
X-ORIGINAL-URL:https://metroplanorlando.gov
X-WR-CALDESC:Events for MetroPlan Orlando
BEGIN:VEVENT
TZID:America/New_York
DTSTART:20180305T123000
DTEND:20180305T170000
DTSTAMP:20260422T032753
CREATED:20180212T172624Z
LAST-MODIFIED:20180302T144839Z
UID:6356-1520253000-1520269200@metroplanorlando.gov
SUMMARY:AMPO CAV Technical Working Group
DESCRIPTION:This meeting notice is being posted in accordance with Florida Government in the Sunshine\, because two or more of our board or committee members may be in attendance. For more information\, please contact Mr. Eric Hill\, Eric.Hill@MetroPlanOrlando.gov \n
URL:https://metroplanorlando.gov/meetings/ampo-cav-technical-working-group-03-05-18/
LOCATION:MetroPlan Orlando Harold W. Barley Conference Room\, 250 S. Orange Ave.\, Suite 200\, Orlando\, FL\, 32801\, United States
GEO:28.5394075;-81.3797567
X-APPLE-STRUCTURED-LOCATION;VALUE=URI;X-ADDRESS=MetroPlan Orlando Harold W. Barley Conference Room 250 S. Orange Ave. Suite 200 Orlando FL 32801 United States;X-APPLE-RADIUS=500;X-TITLE=250 S. Orange Ave.\, Suite 200:geo:-81.3797567,28.5394075
CATEGORIES:Other Meetings
ORGANIZER;CN="Lisa%20Smith":MAILTO:Lisa.Smith@MetroPlanOrlando.gov
END:VEVENT
END:VCALENDAR