BEGIN:VCALENDAR
VERSION:2.0
PRODID:-//MetroPlan Orlando - ECPv4.7.3//NONSGML v1.0//EN
CALSCALE:GREGORIAN
METHOD:PUBLISH
X-ORIGINAL-URL:https://metroplanorlando.gov
X-WR-CALDESC:Events for MetroPlan Orlando
BEGIN:VEVENT
TZID:America/New_York
DTSTART:20181129T100000
DTEND:20181129T120000
DTSTAMP:20260421T222026
CREATED:20180830T161827Z
LAST-MODIFIED:20181126T160224Z
UID:7108-1543485600-1543492800@metroplanorlando.gov
SUMMARY:CANCELED: Central Florida Commuter Rail Commission
DESCRIPTION:\nUPDATE: THIS MEETING HAS BEEN CANCELED. \nThe Central Florida Commuter Rail Commission\, the SunRail advisory board made up of elected leaders from the five local funding partners\, will meet at the MetroPlan Orlando office. \nPublic participation is solicited without regard to race\, color\, national origin\, age\, sex\, religion\, disability or family status. Persons wishing to express their concerns relative to FDOT compliance with Title VI may do so by contacting Roger Masten\, SunRail Title VI Coordinator at roger.masten@dot.state.fl.us. \nPersons who require accommodations under the Americans with Disabilities Act or persons who require translation services (free of charge) should contact Roger Masten\, at least seven days in advance of the meeting\, c/o SunRail\, 801 SunRail Drive\, Sanford\, FL 32771; or by phone at (321) 257-7161; or by email at roger.masten@dot.state.fl.us. \nQuestions? Please contact Steve Olson of the Florida Department of Transportation at steve.olson@dot.state.fl.us /386-943-5479. \n\n
URL:https://metroplanorlando.gov/meetings/canceled-central-florida-commuter-rail-commission-11-29-18/
LOCATION:MetroPlan Orlando Board Room\, 250 S. Orange Ave.\, Suite 200\, Orlando\, FL\, 32801\, United States
GEO:28.5394075;-81.3797567
X-APPLE-STRUCTURED-LOCATION;VALUE=URI;X-ADDRESS=MetroPlan Orlando Board Room 250 S. Orange Ave. Suite 200 Orlando FL 32801 United States;X-APPLE-RADIUS=500;X-TITLE=250 S. Orange Ave.\, Suite 200:geo:-81.3797567,28.5394075
CATEGORIES:Central Florida Commuter Rail Commission,Other Meetings
END:VEVENT
END:VCALENDAR