BEGIN:VCALENDAR
VERSION:2.0
PRODID:-//MetroPlan Orlando - ECPv4.7.3//NONSGML v1.0//EN
CALSCALE:GREGORIAN
METHOD:PUBLISH
X-ORIGINAL-URL:https://metroplanorlando.gov
X-WR-CALDESC:Events for MetroPlan Orlando
BEGIN:VEVENT
TZID:America/New_York
DTSTART:20181214T120000
DTEND:20181214T133000
DTSTAMP:20260421T235811
CREATED:20181207T150217Z
LAST-MODIFIED:20181211T143103Z
UID:7489-1544788800-1544794200@metroplanorlando.gov
SUMMARY:CANCELED: Local Government Coordination
DESCRIPTION:UPDATE: This meeting has been canceled. \nRepresentatives of local governments will meet with MetroPlan Orlando staff to discuss coordination on possible future transportation projects. This meeting is being posted in compliance with Florida’s Government in the Sunshine requirements\, because two or more representatives of MetroPlan Orlando advisory committees may be present. \n
URL:https://metroplanorlando.gov/meetings/canceled-local-government-coordination-12-14-18/
LOCATION:MetroPlan Orlando Bald Cypress Conference Room\, 250 S. Orange Ave.\, Suite 200\, Orlando\, FL\, 32801\, United States
GEO:28.5394075;-81.3797567
X-APPLE-STRUCTURED-LOCATION;VALUE=URI;X-ADDRESS=MetroPlan Orlando Bald Cypress Conference Room 250 S. Orange Ave. Suite 200 Orlando FL 32801 United States;X-APPLE-RADIUS=500;X-TITLE=250 S. Orange Ave.\, Suite 200:geo:-81.3797567,28.5394075
CATEGORIES:Other Meetings
END:VEVENT
END:VCALENDAR