BEGIN:VCALENDAR
VERSION:2.0
PRODID:-//MetroPlan Orlando - ECPv4.7.3//NONSGML v1.0//EN
CALSCALE:GREGORIAN
METHOD:PUBLISH
X-ORIGINAL-URL:https://metroplanorlando.gov
X-WR-CALDESC:Events for MetroPlan Orlando
BEGIN:VEVENT
TZID:America/New_York
DTSTART:20190423T140000
DTEND:20190423T170000
DTSTAMP:20260421T203949
CREATED:20190327T171927Z
LAST-MODIFIED:20190327T171927Z
UID:7953-1556028000-1556038800@metroplanorlando.gov
SUMMARY:Central Florida AV Partnership
DESCRIPTION:This meeting is being posted in accordance with Florida’s Government in the Sunshine\, because two or more members of MetroPlan Orlando advisory committees may be in attendance. For more informati0n\, please contact Mr. Eric Hill: Eric.Hill@MetroPlanOrlando.gov \n
URL:https://metroplanorlando.gov/meetings/central-florida-av-partnership-04-23-19/
LOCATION:MetroPlan Orlando Harold W. Barley Conference Room\, 250 S. Orange Ave.\, Suite 200\, Orlando\, FL\, 32801\, United States
GEO:28.5394075;-81.3797567
X-APPLE-STRUCTURED-LOCATION;VALUE=URI;X-ADDRESS=MetroPlan Orlando Harold W. Barley Conference Room 250 S. Orange Ave. Suite 200 Orlando FL 32801 United States;X-APPLE-RADIUS=500;X-TITLE=250 S. Orange Ave.\, Suite 200:geo:-81.3797567,28.5394075
CATEGORIES:Other Meetings
ORGANIZER;CN="Lisa%20Smith":MAILTO:Lisa.Smith@MetroPlanOrlando.gov
END:VEVENT
END:VCALENDAR