BEGIN:VCALENDAR
VERSION:2.0
PRODID:-//MetroPlan Orlando - ECPv4.7.3//NONSGML v1.0//EN
CALSCALE:GREGORIAN
METHOD:PUBLISH
X-ORIGINAL-URL:https://metroplanorlando.gov
X-WR-CALDESC:Events for MetroPlan Orlando
BEGIN:VEVENT
TZID:America/New_York
DTSTART:20180329T100000
DTEND:20180329T113000
DTSTAMP:20260422T015045
CREATED:20180326T121938Z
LAST-MODIFIED:20180326T121938Z
UID:6648-1522317600-1522323000@metroplanorlando.gov
SUMMARY:Central Florida Commuter Rail Commission
DESCRIPTION:The Central Florida Commuter Rail Commission is the SunRail advisory board made up of elected leaders from the five local funding partners. \nPublic participation is solicited without regard to race\, color\, national origin\, age\, sex\, religion\, disability or family status. Persons who require accommodations under the Americans with Disabilities Act or persons who require translation services (free of charge) should contact Mr. Roger Masten\, FDOT Contracts Administrator\, 801 SunRail Drive\, Sanford\, FL 32771\, or by phone at 321-257-7161\, or by email at roger.masten@dot.state.fl.us at least three business days prior to the event.  \nFor other questions\, please contact Steve Olson of the Florida Department of Transportation at steve.olson@dot.state.fl.us or 386-943-5479. \n
URL:https://metroplanorlando.gov/meetings/central-florida-commuter-rail-commission-03-26-18/
LOCATION:MetroPlan Orlando Board Room\, 250 S. Orange Ave.\, Suite 200\, Orlando\, FL\, 32801\, United States
GEO:28.5394075;-81.3797567
X-APPLE-STRUCTURED-LOCATION;VALUE=URI;X-ADDRESS=MetroPlan Orlando Board Room 250 S. Orange Ave. Suite 200 Orlando FL 32801 United States;X-APPLE-RADIUS=500;X-TITLE=250 S. Orange Ave.\, Suite 200:geo:-81.3797567,28.5394075
CATEGORIES:Central Florida Commuter Rail Commission,Other Meetings
END:VEVENT
END:VCALENDAR