BEGIN:VCALENDAR
VERSION:2.0
PRODID:-//MetroPlan Orlando - ECPv4.7.3//NONSGML v1.0//EN
CALSCALE:GREGORIAN
METHOD:PUBLISH
X-ORIGINAL-URL:https://metroplanorlando.gov
X-WR-CALDESC:Events for MetroPlan Orlando
BEGIN:VEVENT
TZID:America/New_York
DTSTART:20170419T090000
DTEND:20170419T110000
DTSTAMP:20260422T081901
CREATED:20170411T163024Z
LAST-MODIFIED:20170411T164046Z
UID:5031-1492592400-1492599600@metroplanorlando.gov
SUMMARY:Central Florida Commuter Rail Commission
DESCRIPTION:\nThe Central Florida Commuter Rail Commission (CFCRC) is the SunRail advisory board made up of elected leaders from the five local funding partners. \nPersons who require special accommodations under the Americans with Disabilities Act or persons who require language assistance services (free of charge) should contact Jennifer Smith\, FDOT District Five Title VI Coordinator\, 719 S. Woodland Boulevard\,DeLand\, FL 32720\, or by phone at 386-943-5367\, or by email at jennifer.smith2@dot.state.fl.us. \nFor other questions\, please contact Steve Olson of the Florida Department of Transportation at steve.olson@dot.state.fl.us or 386-943-5479 or Jim Harrison at Orange County jim.harrison@ocfl.net. \n\n
URL:https://metroplanorlando.gov/meetings/central-florida-commuter-rail-commission-04-19-17/
LOCATION:MetroPlan Orlando Board Room\, 250 S. Orange Ave.\, Suite 200\, Orlando\, FL\, 32801\, United States
GEO:28.5394075;-81.3797567
X-APPLE-STRUCTURED-LOCATION;VALUE=URI;X-ADDRESS=MetroPlan Orlando Board Room 250 S. Orange Ave. Suite 200 Orlando FL 32801 United States;X-APPLE-RADIUS=500;X-TITLE=250 S. Orange Ave.\, Suite 200:geo:-81.3797567,28.5394075
CATEGORIES:Central Florida Commuter Rail Commission,Other Meetings
ORGANIZER;CN="Rachel%20Frederick":MAILTO:Rachel.Frederick@MetroPlanOrlando.gov
END:VEVENT
END:VCALENDAR