BEGIN:VCALENDAR
VERSION:2.0
PRODID:-//MetroPlan Orlando - ECPv4.7.3//NONSGML v1.0//EN
CALSCALE:GREGORIAN
METHOD:PUBLISH
X-ORIGINAL-URL:https://metroplanorlando.gov
X-WR-CALDESC:Events for MetroPlan Orlando
BEGIN:VEVENT
TZID:America/New_York
DTSTART:20160929T100000
DTEND:20160929T113000
DTSTAMP:20260422T095226
CREATED:20160922T204310Z
LAST-MODIFIED:20170119T171743Z
UID:1155-1475143200-1475148600@metroplanorlando.gov
SUMMARY:Central Florida Commuter Rail Commission
DESCRIPTION:The Central Florida Commuter Rail Commission\, which oversees SunRail\, will hold its September meeting at MetroPlan Orlando. \nClick here for directions. \nPersons who require special accommodations under the Americans with Disabilities Act or persons who require translation services (free of charge) should contact Ms. Jennifer Smith\, FDOT District Five Title VI Coordinator\, 719 S. Woodland Boulevard\, DeLand\, FL 32720\, or by phone at 386-943-5367\, or by email at jennifer.smith2@dot.state.fl.us. \nFor more information\, or to request special assistance\, please contact Steve Olson at steve.olson@dot.state.fl.us or 386-943-5479. \n
URL:https://metroplanorlando.gov/meetings/central-florida-commuter-rail-commission-09-29-16/
CATEGORIES:Other Meetings
END:VEVENT
END:VCALENDAR