BEGIN:VCALENDAR
VERSION:2.0
PRODID:-//MetroPlan Orlando - ECPv4.7.3//NONSGML v1.0//EN
CALSCALE:GREGORIAN
METHOD:PUBLISH
X-ORIGINAL-URL:https://metroplanorlando.gov
X-WR-CALDESC:Events for MetroPlan Orlando
BEGIN:VEVENT
TZID:America/New_York
DTSTART:20200710T110000
DTEND:20200710T120000
DTSTAMP:20260423T210657
CREATED:20200630T151136Z
LAST-MODIFIED:20200706T174112Z
UID:10638-1594378800-1594382400@metroplanorlando.gov
SUMMARY:Central Florida MPO Alliance & West Central Florida Metroplitan Transporation Organization Chairs Coordinating Committee
DESCRIPTION:Please click the link below to join the webinar: \nhttps://us02web.zoom.us/j/82042790285?pwd=U0QwdzdVcVRFUm1sOGppY2NNcEkzZz09\nPassword: 681198 \nOr Telephone:\nUS: +1 312 626 6799 or +1 929 436 2866 or +1 301 715 8592\nWebinar ID: 820 4279 0285\nPassword: 681198 \nCFMPOA and WCFCCC Flyer \n
URL:https://metroplanorlando.gov/meetings/central-florida-mpo-alliance-west-central-florida-metroplitan-transporation-organization-chairs-coordinating-committee-07-10-20/
LOCATION:Virtual Meeting
END:VEVENT
END:VCALENDAR