BEGIN:VCALENDAR
VERSION:2.0
PRODID:-//MetroPlan Orlando - ECPv4.7.3//NONSGML v1.0//EN
CALSCALE:GREGORIAN
METHOD:PUBLISH
X-ORIGINAL-URL:https://metroplanorlando.gov
X-WR-CALDESC:Events for MetroPlan Orlando
BEGIN:VEVENT
TZID:America/New_York
DTSTART:20240909T140000
DTEND:20240909T150000
DTSTAMP:20260422T003310
CREATED:20240819T175405Z
LAST-MODIFIED:20240821T135645Z
UID:20515-1725890400-1725894000@metroplanorlando.gov
SUMMARY:City of Maitland - 2050 MTP Needs Assessment Coordination Meeting #2
DESCRIPTION:Coordination meeting to review a preliminary draft of the 2050 Metropolitan Transportation Plan’s Needs Assessment for the off-system network. For more information\, please contact Taylor Laurent at Taylor.Laurent@MetroPlanOrlando.gov or (407) 481-5672. \n*This is an in person meeting* \n  \n
URL:https://metroplanorlando.gov/meetings/city-of-maitland-2050-mtp-needs-assessment-coordination-meeting-2-09-09-24/
LOCATION:City of Maitland\, 1827 Fennell Street\, Maitland\, FL\, 32751\, United States
CATEGORIES:Other Meetings
ORGANIZER;CN="Rachel%20Frederick":MAILTO:Rachel.Frederick@MetroPlanOrlando.gov
END:VEVENT
END:VCALENDAR