BEGIN:VCALENDAR
VERSION:2.0
PRODID:-//MetroPlan Orlando - ECPv4.7.3//NONSGML v1.0//EN
CALSCALE:GREGORIAN
METHOD:PUBLISH
X-ORIGINAL-URL:https://metroplanorlando.gov
X-WR-CALDESC:Events for MetroPlan Orlando
BEGIN:VEVENT
TZID:America/New_York
DTSTART:20180227T090000
DTEND:20180227T110000
DTSTAMP:20260422T032839
CREATED:20180226T165854Z
LAST-MODIFIED:20180226T165854Z
UID:6417-1519722000-1519729200@metroplanorlando.gov
SUMMARY:Colonial Parkway Technology Charrette
DESCRIPTION:Florida’s Turnpike Enterprise will be holding a technology and innovation brainstorming charrette related to Colonial Parkway. Two or more MetroPlan Orlando committee members may be present at this meeting. For more information or to request ADA accommodations\, contact Abra Horne\, Sr. Project Manager at Florida’s Turnpike Enterprise\, at Abra.horne@dot.state.fl.us or 407-264-3019. \n
URL:https://metroplanorlando.gov/meetings/colonial-parkway-technology-charrette-02-26-18/
LOCATION:MetroPlan Orlando Board Room\, 250 S. Orange Ave.\, Suite 200\, Orlando\, FL\, 32801\, United States
GEO:28.5394075;-81.3797567
X-APPLE-STRUCTURED-LOCATION;VALUE=URI;X-ADDRESS=MetroPlan Orlando Board Room 250 S. Orange Ave. Suite 200 Orlando FL 32801 United States;X-APPLE-RADIUS=500;X-TITLE=250 S. Orange Ave.\, Suite 200:geo:-81.3797567,28.5394075
CATEGORIES:Other Meetings
END:VEVENT
END:VCALENDAR