BEGIN:VCALENDAR
VERSION:2.0
PRODID:-//MetroPlan Orlando - ECPv4.7.3//NONSGML v1.0//EN
CALSCALE:GREGORIAN
METHOD:PUBLISH
X-ORIGINAL-URL:https://metroplanorlando.gov
X-WR-CALDESC:Events for MetroPlan Orlando
BEGIN:VEVENT
TZID:America/New_York
DTSTART:20191119T170000
DTEND:20191119T183000
DTSTAMP:20260421T173201
CREATED:20191010T133604Z
LAST-MODIFIED:20191014T185158Z
UID:8682-1574182800-1574188200@metroplanorlando.gov
SUMMARY:Connected & Automated Vehicle Readiness Workshop
DESCRIPTION:MetroPlan Orlando is helping Central Florida get ready for connected and automated vehicles (CAVs) on public roads\, and we want your input. \nOur ongoing study is evaluating what this technology may mean for the region’s roads and transit agencies. We looked at what other regions are doing well\, and how ready we are to respond locally. You are invited to attend a CAV Readiness informational workshop\, where we’ll share the study’s findings to date\, answer questions\, and get your ideas. \nThe program will include an open house from 5-5:30 p.m.\, and a presentation beginning at 5:30 p.m. \nPlease make sure to RSVP for the workshop. \n
URL:https://metroplanorlando.gov/meetings/connected-automated-vehicle-readiness-workshop-11-19-19/
LOCATION:First United Medthodist Church\, 142 E Jackson St.\, Orlando\, FL\, 32801\, United States
CATEGORIES:Other Meetings,Public Meeting
ORGANIZER;CN="Eric%20Hill":MAILTO:ehill@metroplanorlando.org
END:VEVENT
END:VCALENDAR