BEGIN:VCALENDAR
VERSION:2.0
PRODID:-//MetroPlan Orlando - ECPv4.7.3//NONSGML v1.0//EN
CALSCALE:GREGORIAN
METHOD:PUBLISH
X-ORIGINAL-URL:https://metroplanorlando.gov
X-WR-CALDESC:Events for MetroPlan Orlando
BEGIN:VEVENT
TZID:America/New_York
DTSTART:20200429T080000
DTEND:20200429T120000
DTSTAMP:20260421T155328
CREATED:20200219T194439Z
LAST-MODIFIED:20200423T172410Z
UID:9834-1588147200-1588161600@metroplanorlando.gov
SUMMARY:Consultant Presentations Meeting
DESCRIPTION:To follow guidelines associated with the COVID-19 pandemic\, the final selection meeting for RFP 2020-01 General Planning Consultant will be held virtually via the Zoom Webinar platform. The presentations by the short-listed firms will not be open to the public to ensure that no firm has an advantage. \nHowever\, the beginning of the meeting will be open to the public as well as the final discussion\, scoring\, and selection. Links to join the two public sections of the meeting on Zoom\, via computer\, tablet\, or smartphone\, are available below. \nTo join the start of the meeting at 8:15 a.m.\, please use the following Zoom link:\nhttps://zoom.us/j/98464712016?pwd=ZlVTMGVjSUovd21ZQkRUOHA0a1hidz09\nPassword: 884014 \nOr Telephone:\nUS: +1 312 626 6799 or +1 929 436 2866 or +1 253 215 8782\nWebinar ID: 984 6471 2016\nPassword: 884014 \nTo join the conclusion of the meeting at 12:15 p.m.\, please use this Zoom link:\nhttps://zoom.us/j/98680609162?pwd=d0M5a0lJVk5jMG9wU3VSNVNseE80QT09\nPassword: 129216 \nOr Telephone:\nUS: +1 312 626 6799 or +1 929 436 2866 or +1 346 248 7799\nWebinar ID: 986 8060 9162\nPassword: 129216 \n
URL:https://metroplanorlando.gov/meetings/consultant-presentations-meeting-04-29-20/
LOCATION:Virutal Meeting
CATEGORIES:Other Meetings
END:VEVENT
END:VCALENDAR