BEGIN:VCALENDAR
VERSION:2.0
PRODID:-//MetroPlan Orlando - ECPv4.7.3//NONSGML v1.0//EN
CALSCALE:GREGORIAN
METHOD:PUBLISH
X-ORIGINAL-URL:https://metroplanorlando.gov
X-WR-CALDESC:Events for MetroPlan Orlando
BEGIN:VEVENT
TZID:America/New_York
DTSTART:20180202T173000
DTEND:20180202T213000
DTSTAMP:20260422T032947
CREATED:20180117T174050Z
LAST-MODIFIED:20180117T213058Z
UID:6246-1517592600-1517607000@metroplanorlando.gov
SUMMARY:Corrine Drive Pop-Up Meeting at Baldwin Park First Friday
DESCRIPTION:This is a chance to have informal discussions about the Corrine Drive Complete Streets Study with members of the MetroPlan Orlando project team. We’ll be ready to discuss the preliminary design concepts for improving Corrine Drive. We’ll answer questions or demonstrate how to give feedback on the design concepts by using the Neighborland online platform. For more information about the project and preliminary design concepts\, see the study page here. \nFor more information\, contact: PR@MetroPlanOrlando.org \n
URL:https://metroplanorlando.gov/meetings/corrine-drive-pop-up-meeting-at-baldwin-park-first-friday-02-02-18/
LOCATION:Baldwin Park Village Center\, New Broad Street\, Orlando\, FL
CATEGORIES:Other Meetings
ORGANIZER;CN="Cynthia%20Lambert":MAILTO:Cynthia.Lambert@MetroPlanOrlando.gov
END:VEVENT
END:VCALENDAR