BEGIN:VCALENDAR
VERSION:2.0
PRODID:-//MetroPlan Orlando - ECPv4.7.3//NONSGML v1.0//EN
CALSCALE:GREGORIAN
METHOD:PUBLISH
X-ORIGINAL-URL:https://metroplanorlando.gov
X-WR-CALDESC:Events for MetroPlan Orlando
BEGIN:VEVENT
TZID:America/New_York
DTSTART:20180303T140000
DTEND:20180303T170000
DTSTAMP:20260422T033907
CREATED:20180117T212951Z
LAST-MODIFIED:20180117T212951Z
UID:6261-1520085600-1520096400@metroplanorlando.gov
SUMMARY:Corrine Drive Pop-Up Meeting at East End Market
DESCRIPTION:This is a chance to have informal discussions about the Corrine Drive Complete Streets Study with members of the MetroPlan Orlando project team. We’ll be ready to discuss the preliminary design concepts for improving Corrine Drive. We’ll answer questions or demonstrate how to give feedback on the design concepts by using the Neighborland online platform. For more information about the project and preliminary design concepts\, see the study page here. \nFor more information\, contact: PR@MetroPlanOrlando.org \n
URL:https://metroplanorlando.gov/meetings/corrine-drive-pop-up-meeting-at-east-end-market-01-17-18/
LOCATION:East End Market\, 3201 Corrine Drive\, Orlando\, FL
GEO:28.5683502;-81.3437675
X-APPLE-STRUCTURED-LOCATION;VALUE=URI;X-ADDRESS=East End Market 3201 Corrine Drive Orlando FL;X-APPLE-RADIUS=500;X-TITLE=3201 Corrine Drive:geo:-81.3437675,28.5683502
CATEGORIES:Other Meetings
ORGANIZER;CN="Mary%20Ann%20Horne":MAILTO:MaryAnn.Horne@MetroPlanOrlando.gov
END:VEVENT
END:VCALENDAR