BEGIN:VCALENDAR
VERSION:2.0
PRODID:-//MetroPlan Orlando - ECPv4.7.3//NONSGML v1.0//EN
CALSCALE:GREGORIAN
METHOD:PUBLISH
X-ORIGINAL-URL:https://metroplanorlando.gov
X-WR-CALDESC:Events for MetroPlan Orlando
BEGIN:VEVENT
TZID:America/New_York
DTSTART:20170727T180000
DTEND:20170727T200000
DTSTAMP:20260422T063342
CREATED:20170621T190032Z
LAST-MODIFIED:20170707T160250Z
UID:5418-1501178400-1501185600@metroplanorlando.gov
SUMMARY:Corrine Drive Study - Public Workshop
DESCRIPTION:You’re invited to the first public workshop for the Corrine Drive Complete Streets Study. For the past several months\, MetroPlan Orlando has been collecting technical data on how the road currently functions. We’ve also been listening to the community’s thoughts on Corrine Drive and desires for the corridor’s future. \nIn this workshop\, we’ll share results from our technical analysis and our community survey. We’ll also ask attendees to help identify specific hot spots along Corrine Drive that experience transportation issues. \nThe workshop will use an open house format\, so you’re welcome to come and go at any time within the 6-8 p.m. time period. We recommend that you allot about 30-45 minutes to participate fully. \nPlease RSVP below if you plan on attending. \n
URL:https://metroplanorlando.gov/meetings/corrine-drive-study-public-workshop-07-27-17/
LOCATION:Leu Gardens (Camellia Room)\, 1920 N. Forest Avenue\, Orlando\, FL\, 32803\, United States
GEO:28.5696605;-81.3563552
X-APPLE-STRUCTURED-LOCATION;VALUE=URI;X-ADDRESS=Leu Gardens (Camellia Room) 1920 N. Forest Avenue Orlando FL 32803 United States;X-APPLE-RADIUS=500;X-TITLE=1920 N. Forest Avenue:geo:-81.3563552,28.5696605
CATEGORIES:Other Meetings
ORGANIZER;CN="Cynthia%20Lambert":MAILTO:Cynthia.Lambert@MetroPlanOrlando.gov
END:VEVENT
END:VCALENDAR