BEGIN:VCALENDAR
VERSION:2.0
PRODID:-//MetroPlan Orlando - ECPv4.7.3//NONSGML v1.0//EN
CALSCALE:GREGORIAN
METHOD:PUBLISH
X-ORIGINAL-URL:https://metroplanorlando.gov
X-WR-CALDESC:Events for MetroPlan Orlando
BEGIN:VEVENT
TZID:America/New_York
DTSTART:20180220T173000
DTEND:20180220T193000
DTSTAMP:20260422T045928
CREATED:20180201T205941Z
LAST-MODIFIED:20180201T210115Z
UID:6328-1519147800-1519155000@metroplanorlando.gov
SUMMARY:FDOT Public Hearing - Orange Avenue
DESCRIPTION:The Florida Department of Transportation (FDOT) will be holding a public hearing to receive public input on proposed improvements to Orange Avenue from just south of Lake Conway Drive to north of Grant Street. A presentation will be given at 6 p.m. \nMore information on the public hearing\, including how to request ADA and language accommodations\, can be found in the document below: \nFDOT Public Hearing Orange Avenue 2-20-18 \nProject Contact Information:\nTaleb Shams\, P.E.\nFDOT District 5\n386-943-5231 \n
URL:https://metroplanorlando.gov/meetings/fdot-public-hearing-orange-avenue-02-20-18/
LOCATION:Beardall Senior Center\, 800 S. Delaney Avenue\, Orlando\, FL\, 32801\, United States
GEO:28.531725;-81.375532
X-APPLE-STRUCTURED-LOCATION;VALUE=URI;X-ADDRESS=Beardall Senior Center 800 S. Delaney Avenue Orlando FL 32801 United States;X-APPLE-RADIUS=500;X-TITLE=800 S. Delaney Avenue:geo:-81.375532,28.531725
CATEGORIES:Other Meetings
END:VEVENT
END:VCALENDAR