BEGIN:VCALENDAR
VERSION:2.0
PRODID:-//MetroPlan Orlando - ECPv4.7.3//NONSGML v1.0//EN
CALSCALE:GREGORIAN
METHOD:PUBLISH
X-ORIGINAL-URL:https://metroplanorlando.gov
X-WR-CALDESC:Events for MetroPlan Orlando
BEGIN:VEVENT
TZID:America/New_York
DTSTART:20230315T090000
DTEND:20230315T100000
DTSTAMP:20260423T065811
CREATED:20230301T161221Z
LAST-MODIFIED:20230308T192134Z
UID:16986-1678870800-1678874400@metroplanorlando.gov
SUMMARY:Federal Certification Public Meeting
DESCRIPTION:Every four years\, MetroPlan Orlando undergoes a mandatory federal certification with representatives from the Federal Highway and Federal Transit administrations. A team representing these USDOT agencies will visit March 15\, 2023 to confirm we are following transportation planning laws and regulations. \nHow To Comment\nAs part of the certification process\, a hybrid public meeting will be held on March 15\, 2023 at 9 a.m. You can participate in person at the MetroPlan Orlando office (250 S. Orange Ave.\, Suite 200\, Orlando\, FL 32801) or virtually through Zoom (link below). \nWe welcome input on transportation policies and MetroPlan Orlando’s planning work. Comments will be taken into consideration by the federal team in the certification review report. \nYou can comment at the public meeting in two ways: \n\nIn person at the MetroPlan Orlando office\nVirtually through Zoom at the link below\n\nZoom Virtual Public Access \nPlease click the link below to join the webinar on Zoom:\nhttps://us02web.zoom.us/j/81634350498?pwd=cjVQOEJ6R2tyV1d5SHJMc3lIeHE3UT09 \nWebinar ID: 816 3435 0498\nPasscode: 565160\nOr Telephone: US: +1 305 224 1968  or +1 312 626 6799  or +1 646 931 3860  or +1 929 436 2866 \n  \nCan’t make it to the public meeting?\nYou can submit written comments through April 14 in two ways: \n\nVia email to comment@metroplanorlando.org\nDirectly to the federal team via their website: https://www.fhwa.dot.gov/fldiv\n\n \nQuestions?\nContact any of the people below. \nCynthia Lambert\, Public Information Manager at MetroPlan Orlando\n407-481-5672 x320  |  Cynthia.Lambert@MetroPlanOrlando.gov \nJoseph P. Sullivan\, Environmental Protection Specialist at Federal Highway Administration (FHWA) – Florida Division\n850-553-2248  |  Joseph.Sullivan@dot.gov \nAviance Webb\, Community Planner at FTA Region 4\, Atlanta\, GA\n404-865-5489  |  Aviance.webb@dot.gov \nNeed Accommodations to Participate?\nPublic participation is conducted without regard to race\, color\, national origin\, sex\, age\, disability\, religion\, or family status. Persons wishing to express concerns\, who require special assistance under the Americans with Disabilities Act\, or who require language services (free of charge) should contact MetroPlan Orlando by phone or email at least three days prior to the event: Lisa Smith\, Lisa.Smith@MetroPlanOrlando.gov\, 407-481-5672 x307 \nLa participación pública se lleva a cabo sin distinción de raza\, color\, origen nacional\, sexo\, edad\, discapacidad\, religión o estado familiar. Las personas que deseen expresar inquietudes\, que requieran asistencia especial bajo la Ley de Americanos con Discapacidad (ADA) o que requieran servicios de traducción (sin cargo) deben ponerse en contacto con MetroPlan Orlando por teléfono o por correo electrónico por lo menos tres días antes del evento: Lisa Smith\, Lisa.Smith@MetroPlanOrlando.gov\, 407-481-5672 x307 \n
URL:https://metroplanorlando.gov/meetings/federal-certification-public-meeting-03-15-23/
LOCATION:MetroPlan Orlando Boardroom/Virtual Public Access\, 250 S. Orange Ave.\, Suite 200\, Orlando\, FL\, 32801
CATEGORIES:Other Meetings,Public Meeting
ORGANIZER;CN="Lisa%20Smith":MAILTO:Lisa.Smith@MetroPlanOrlando.gov
END:VEVENT
END:VCALENDAR