BEGIN:VCALENDAR
VERSION:2.0
PRODID:-//MetroPlan Orlando - ECPv4.7.3//NONSGML v1.0//EN
CALSCALE:GREGORIAN
METHOD:PUBLISH
X-ORIGINAL-URL:https://metroplanorlando.gov
X-WR-CALDESC:Events for MetroPlan Orlando
BEGIN:VEVENT
TZID:America/New_York
DTSTART:20200901T170000
DTEND:20200901T190000
DTSTAMP:20260421T084717
CREATED:20200812T194149Z
LAST-MODIFIED:20201015T152448Z
UID:10872-1598979600-1598986800@metroplanorlando.gov
SUMMARY:Future Fest
DESCRIPTION: \nThe challenge? Plan a system for Central Floridians to use in 2045 – without knowing what the next 25 years will bring. Join us at this thought-provoking webinar to discuss how MetroPlan Orlando can future-proof the region’s transportation plan. \nWe’ll explore four distinct future scenarios that deal with current trends\, technology\, climate\, and what we call disruption dilemmas – all part of the 2045 Metropolitan Transportation Plan. Attendees will share ideas on how we can work toward Central Florida’s transportation goals despite the uncertainties. Click here for FREE registration to attend Future Fest. \n \n  \n
URL:https://metroplanorlando.gov/meetings/future-fest-09-01-20/
LOCATION:Virtual Meeting
CATEGORIES:Other Meetings
ORGANIZER;CN="Lisa%20Smith":MAILTO:Lisa.Smith@MetroPlanOrlando.gov
END:VEVENT
END:VCALENDAR