BEGIN:VCALENDAR
VERSION:2.0
PRODID:-//MetroPlan Orlando - ECPv4.7.3//NONSGML v1.0//EN
CALSCALE:GREGORIAN
METHOD:PUBLISH
X-ORIGINAL-URL:https://metroplanorlando.gov
X-WR-CALDESC:Events for MetroPlan Orlando
BEGIN:VEVENT
TZID:America/New_York
DTSTART:20170414T140000
DTEND:20170414T153000
DTSTAMP:20260422T080955
CREATED:20170404T162916Z
LAST-MODIFIED:20170404T163445Z
UID:5018-1492178400-1492183800@metroplanorlando.gov
SUMMARY:GPC Selection Meeting -- Short List for Presentation
DESCRIPTION:MetroPlan Orlando is evaluating proposals from consultants for the 2017-06 General Planning Consultant Contract (GPC) to provide support for various transportation planning functions. The deadline for proposals was March 30. \nThis meeting will compile the draft rankings of firms to short list for presentations. \nFor more information contact: rfp@MetroPlanOrlando.org \n
URL:https://metroplanorlando.gov/meetings/gpc-selection-meeting-short-list-for-presentation-04-14-17/
LOCATION:MetroPlan Orlando Harold W. Barley Conference Room\, 250 S. Orange Ave.\, Suite 200\, Orlando\, FL\, 32801\, United States
GEO:28.5394075;-81.3797567
X-APPLE-STRUCTURED-LOCATION;VALUE=URI;X-ADDRESS=MetroPlan Orlando Harold W. Barley Conference Room 250 S. Orange Ave. Suite 200 Orlando FL 32801 United States;X-APPLE-RADIUS=500;X-TITLE=250 S. Orange Ave.\, Suite 200:geo:-81.3797567,28.5394075
CATEGORIES:Other Meetings
ORGANIZER;CN="Rachel%20Frederick":MAILTO:Rachel.Frederick@MetroPlanOrlando.gov
END:VEVENT
END:VCALENDAR