BEGIN:VCALENDAR
VERSION:2.0
PRODID:-//MetroPlan Orlando - ECPv4.7.3//NONSGML v1.0//EN
CALSCALE:GREGORIAN
METHOD:PUBLISH
X-ORIGINAL-URL:https://metroplanorlando.gov
X-WR-CALDESC:Events for MetroPlan Orlando
BEGIN:VEVENT
TZID:America/New_York
DTSTART:20200821T100000
DTEND:20200821T110000
DTSTAMP:20260421T084310
CREATED:20200813T180803Z
LAST-MODIFIED:20200817T172142Z
UID:10902-1598004000-1598007600@metroplanorlando.gov
SUMMARY:I-4 Corridor Coalition
DESCRIPTION:Please click the link below to join the webinar:\nhttps://us02web.zoom.us/j/83634243512?pwd=VnpxaFY2bC85SCtBcWlycXg5TGxMdz09\nPasscode: 521502 \nOr Telephone:\nUS: +1 312 626 6799 or +1 929 436 2866 or +1 301 715 8592\nWebinar ID: 836 3424 3512\nPasscode: 521502 \n
URL:https://metroplanorlando.gov/meetings/i-4-corridor-coalition-08-21-20/
LOCATION:Virtual Meeting
CATEGORIES:Other Meetings
END:VEVENT
END:VCALENDAR