BEGIN:VCALENDAR
VERSION:2.0
PRODID:-//MetroPlan Orlando - ECPv4.7.3//NONSGML v1.0//EN
CALSCALE:GREGORIAN
METHOD:PUBLISH
X-ORIGINAL-URL:https://metroplanorlando.gov
X-WR-CALDESC:Events for MetroPlan Orlando
BEGIN:VEVENT
TZID:America/New_York
DTSTART:20200702T100000
DTEND:20200702T110000
DTSTAMP:20260421T101014
CREATED:20200629T145959Z
LAST-MODIFIED:20200629T150112Z
UID:10610-1593684000-1593687600@metroplanorlando.gov
SUMMARY:ITS4US Meeting
DESCRIPTION:This meeting is being held to discuss application to ITS4US Grant. \nPlease click the link below to join the webinar:\nhttps://us02web.zoom.us/j/88956157204?pwd=NnlpcjZVb1dpK3c1OW96Q0E0VFRLQT09\nPassword: 041293 \nOr Telephone:\nUS: +1 929 436 2866 or +1 301 715 8592 or +1 312 626 6799\nWebinar ID: 889 5615 7204\nPassword: 041293 \n
URL:https://metroplanorlando.gov/meetings/its4us-meeting-07-02-20/
LOCATION:Virtual Meeting
CATEGORIES:Other Meetings
ORGANIZER;CN="Eric%20Hill":MAILTO:ehill@metroplanorlando.org
END:VEVENT
END:VCALENDAR