BEGIN:VCALENDAR
VERSION:2.0
PRODID:-//MetroPlan Orlando - ECPv4.7.3//NONSGML v1.0//EN
CALSCALE:GREGORIAN
METHOD:PUBLISH
X-ORIGINAL-URL:https://metroplanorlando.gov
X-WR-CALDESC:Events for MetroPlan Orlando
BEGIN:VEVENT
TZID:America/New_York
DTSTART:20200728T140000
DTEND:20200728T150000
DTSTAMP:20260421T101101
CREATED:20200727T215322Z
LAST-MODIFIED:20200727T215333Z
UID:10782-1595944800-1595948400@metroplanorlando.gov
SUMMARY:ITS4US Meeting
DESCRIPTION:This is the second meeting for the ITS4US group. \nPlease click the link below to join the webinar:\nhttps://us02web.zoom.us/j/81865432480?pwd=QVRucVBlWHl2Q1JrRWJMSjZ6RlZxQT09\nPasscode: 550862 \nOr Telephone:\nUS: +1 929 436 2866 or +1 301 715 8592 or +1 312 626 6799\nWebinar ID: 818 6543 2480\nPasscode: 550862 \n
URL:https://metroplanorlando.gov/meetings/its4us-meeting-07-28-20/
LOCATION:Virtual Meeting
CATEGORIES:Other Meetings
END:VEVENT
END:VCALENDAR