BEGIN:VCALENDAR
VERSION:2.0
PRODID:-//MetroPlan Orlando - ECPv4.7.3//NONSGML v1.0//EN
CALSCALE:GREGORIAN
METHOD:PUBLISH
X-ORIGINAL-URL:https://metroplanorlando.gov
X-WR-CALDESC:Events for MetroPlan Orlando
BEGIN:VEVENT
TZID:America/New_York
DTSTART:20190321T160000
DTEND:20190321T170000
DTSTAMP:20260421T221749
CREATED:20190318T190507Z
LAST-MODIFIED:20190319T123827Z
UID:7933-1553184000-1553187600@metroplanorlando.gov
SUMMARY:Local Agency Program (LAP) Policy Review
DESCRIPTION:MetroPlan Orlando staff will meet with members of the Technical Advisory Committee (TAC) to review the new FDOT District 5 draft Local Agency Program (LAP) policy. This event is being posted in accordance with Florida’s Government in the Sunshine requirements\, since more than two members of a MetroPlan Orlando advisory committee are likely to be attending. If you have questions\, please contact Nick Lepp\, director of transportation planning\, at 407-481-5672 x324. \n
URL:https://metroplanorlando.gov/meetings/local-agency-program-lap-policy-review-03-21-19/
LOCATION:MetroPlan Orlando\, 250 S. Orange Ave.\, Suite 200\, Orlando\, FL\, 32801\, United States
GEO:28.5394075;-81.3797567
X-APPLE-STRUCTURED-LOCATION;VALUE=URI;X-ADDRESS=MetroPlan Orlando 250 S. Orange Ave. Suite 200 Orlando FL 32801 United States;X-APPLE-RADIUS=500;X-TITLE=250 S. Orange Ave.\, Suite 200:geo:-81.3797567,28.5394075
CATEGORIES:Other Meetings
END:VEVENT
END:VCALENDAR