BEGIN:VCALENDAR
VERSION:2.0
PRODID:-//MetroPlan Orlando - ECPv4.7.3//NONSGML v1.0//EN
CALSCALE:GREGORIAN
METHOD:PUBLISH
X-ORIGINAL-URL:https://metroplanorlando.gov
X-WR-CALDESC:Events for MetroPlan Orlando
BEGIN:VEVENT
TZID:America/New_York
DTSTART:20200422T150000
DTEND:20200422T163000
DTSTAMP:20260421T154216
CREATED:20200306T140036Z
LAST-MODIFIED:20200421T163158Z
UID:9900-1587567600-1587573000@metroplanorlando.gov
SUMMARY:LYNX AV Shuttle User Group - Virtual Meeting
DESCRIPTION:This group will discuss some ideas that might be used in the development of a possible automated vehicle to serve certain LYNX users in the future. For more information\, please contact Mr. Eric Hill: Eric.Hill@MetroPlanOrlando.gov \n**This April 22 focus group will meet through the Zoom web conferencing platform. \n
URL:https://metroplanorlando.gov/meetings/lynx-av-shuttle-user-group-virtual-meeting-04-22-20/
CATEGORIES:Other Meetings
END:VEVENT
END:VCALENDAR