BEGIN:VCALENDAR
VERSION:2.0
PRODID:-//MetroPlan Orlando - ECPv4.7.3//NONSGML v1.0//EN
CALSCALE:GREGORIAN
METHOD:PUBLISH
X-ORIGINAL-URL:https://metroplanorlando.gov
X-WR-CALDESC:Events for MetroPlan Orlando
BEGIN:VEVENT
TZID:America/New_York
DTSTART:20211110T090000
DTEND:20211110T110000
DTSTAMP:20260422T200518
CREATED:20201210T150943Z
LAST-MODIFIED:20220311T143303Z
UID:11968-1636534800-1636542000@metroplanorlando.gov
SUMMARY:MetroPlan Orlando Board
DESCRIPTION:The MetroPlan Orlando Board discusses issues and makes informed decisions about future transportation projects\, initiatives and improvements. An audio agenda is available by calling (407) 481-5672 and dialing 5. For more information\, please contact Ms. Lisa Smith\, 407-481-5672\, ext. 307. \nPUBLIC ACCESS \nPlease click the link below to join the webinar:\nhttps://us02web.zoom.us/j/82761403787?pwd=TVZuWHdxNUorYnY5UUtlL2o3NmY0UT09\nPasscode: 929163 \nOr Telephone:\nUS: +1 312 626 6799 or +1 929 436 2866 or +1 301 715 8592\nWebinar ID: 827 6140 3787\nPasscode: 929163 \n
URL:https://metroplanorlando.gov/meetings/metroplan-orlando-board-11-10-21/
LOCATION:MetroPlan Orlando Board Room\, 250 S. Orange Ave.\, Suite 200\, Orlando\, FL\, 32801\, United States
GEO:28.5394075;-81.3797567
X-APPLE-STRUCTURED-LOCATION;VALUE=URI;X-ADDRESS=MetroPlan Orlando Board Room 250 S. Orange Ave. Suite 200 Orlando FL 32801 United States;X-APPLE-RADIUS=500;X-TITLE=250 S. Orange Ave.\, Suite 200:geo:-81.3797567,28.5394075
CATEGORIES:Board,MetroPlan Orlando Board
ORGANIZER;CN="Lisa%20Smith":MAILTO:Lisa.Smith@MetroPlanOrlando.gov
END:VEVENT
END:VCALENDAR