BEGIN:VCALENDAR
VERSION:2.0
PRODID:-//MetroPlan Orlando - ECPv4.7.3//NONSGML v1.0//EN
CALSCALE:GREGORIAN
METHOD:PUBLISH
X-ORIGINAL-URL:https://metroplanorlando.gov
X-WR-CALDESC:Events for MetroPlan Orlando
BEGIN:VEVENT
TZID:America/New_York
DTSTART:20200629T090000
DTEND:20200629T110000
DTSTAMP:20260423T210113
CREATED:20200615T125151Z
LAST-MODIFIED:20200921T171909Z
UID:10494-1593421200-1593428400@metroplanorlando.gov
SUMMARY:MetroPlan Orlando Board Virtual Meeting
DESCRIPTION:The MetroPlan Orlando Board discusses issues and makes informed decisions about future transportation projects\, initiatives and improvements. This virtual meeting was originally scheduled for July 8\, but will now take place on June 29\, 2020 at 9 a.m. For more information about these date changes\, click here. \nThis meeting was held remotely\, through the Zoom web conferencing platform\, to align with federal and state guidance on public events. You can view the Board virtual meeting through our YouTube channel.\n________________________________________________________________\n**The public access links for this meeting have expired.** \nPUBLIC ACCESS \nPlease click the link below to join the webinar: \nhttps://us02web.zoom.us/j/82181269463?pwd=dEJTWTVCdWtORXc4d21GZXVQZlVzUT09\nPassword: 740446 \nOr Telephone:\nUS: +1 312 626 6799 or +1 929 436 2866 or +1 301 715 8592\nWebinar ID: 821 8126 9463\nPassword: 740446 \nThe MetroPlan Orlando offices are closed to the public\, however members of the public may access this virtual meeting and participate via the Zoom link above\, or by dialing in. New to Zoom? Visit our virtual meetings page for resources on how to get the app ahead of time and be ready for the meeting. For technical support during the meeting\, use the Raise Hand function (located in the Participants tab) to be contacted by a meeting moderator. \n
URL:https://metroplanorlando.gov/meetings/metroplan-orlando-board-virtual-meeting-06-29-20/
CATEGORIES:Board,MetroPlan Orlando Board
ORGANIZER;CN="Rachel%20Frederick":MAILTO:Rachel.Frederick@MetroPlanOrlando.gov
END:VEVENT
END:VCALENDAR