BEGIN:VCALENDAR
VERSION:2.0
PRODID:-//MetroPlan Orlando - ECPv4.7.3//NONSGML v1.0//EN
CALSCALE:GREGORIAN
METHOD:PUBLISH
X-ORIGINAL-URL:https://metroplanorlando.gov
X-WR-CALDESC:Events for MetroPlan Orlando
BEGIN:VEVENT
TZID:America/New_York
DTSTART:20211224T080000
DTEND:20211224T163000
DTSTAMP:20260422T162706
CREATED:20211220T154343Z
LAST-MODIFIED:20211220T154929Z
UID:14545-1640332800-1640363400@metroplanorlando.gov
SUMMARY:MetroPlan Orlando Closed in Observance of Christmas Holiday
DESCRIPTION:MetroPlan Orlando will observe the Christmas holiday on December 24. During that time\, our staff will not be available either at our office or virtually. We will resume operations at 8 a.m.\, on Monday\, Dec. 27. \n
URL:https://metroplanorlando.gov/meetings/metroplan-orlando-closed-in-observance-of-christmas-holiday-12-24-21/
CATEGORIES:Office Closures
END:VEVENT
END:VCALENDAR