BEGIN:VCALENDAR
VERSION:2.0
PRODID:-//MetroPlan Orlando - ECPv4.7.3//NONSGML v1.0//EN
CALSCALE:GREGORIAN
METHOD:PUBLISH
X-ORIGINAL-URL:https://metroplanorlando.gov
X-WR-CALDESC:Events for MetroPlan Orlando
BEGIN:VEVENT
DTSTART;VALUE=DATE:20200101
DTEND;VALUE=DATE:20200102
DTSTAMP:20260424T062452
CREATED:20191223T162413Z
LAST-MODIFIED:20191223T162644Z
UID:9220-1577836800-1577923199@metroplanorlando.gov
SUMMARY:MetroPlan Orlando Closed in Observance of Holiday
DESCRIPTION:MetroPlan Orlando will be closed in observance of the New Year holiday. The office will reopen at 8 a.m. Thursday\, January 2. \n
URL:https://metroplanorlando.gov/meetings/metroplan-orlando-closed-in-observance-of-holiday-01-01-20/
CATEGORIES:Office Closures
END:VEVENT
END:VCALENDAR