BEGIN:VCALENDAR
VERSION:2.0
PRODID:-//MetroPlan Orlando - ECPv4.7.3//NONSGML v1.0//EN
CALSCALE:GREGORIAN
METHOD:PUBLISH
X-ORIGINAL-URL:https://metroplanorlando.gov
X-WR-CALDESC:Events for MetroPlan Orlando
BEGIN:VEVENT
DTSTART;VALUE=DATE:20191225
DTEND;VALUE=DATE:20191226
DTSTAMP:20260424T061947
CREATED:20191218T163459Z
LAST-MODIFIED:20191218T163722Z
UID:9206-1577232000-1577318399@metroplanorlando.gov
SUMMARY:MetroPlan Orlando Closed in Observance of Holiday
DESCRIPTION:MetroPlan Orlando offices are closed in observance of Christmas. Please have a safe and happy holiday. The office will reopen at 8 a.m. on Thursday\, December 26. \n
URL:https://metroplanorlando.gov/meetings/metroplan-orlando-closed-in-observance-of-holiday-12-25-19/
CATEGORIES:Office Closures
END:VEVENT
END:VCALENDAR