BEGIN:VCALENDAR
VERSION:2.0
PRODID:-//MetroPlan Orlando - ECPv4.7.3//NONSGML v1.0//EN
CALSCALE:GREGORIAN
METHOD:PUBLISH
X-ORIGINAL-URL:https://metroplanorlando.gov
X-WR-CALDESC:Events for MetroPlan Orlando
BEGIN:VEVENT
TZID:America/New_York
DTSTART:20220905T080000
DTEND:20220905T163000
DTSTAMP:20260422T063801
CREATED:20220829T192538Z
LAST-MODIFIED:20220829T192538Z
UID:16026-1662364800-1662395400@metroplanorlando.gov
SUMMARY:MetroPlan Orlando Closed in Observance of Labor Day
DESCRIPTION:The MetroPlan Orlando office will be closed today in observance of the Labor Day holiday. We will reopen at 8 a.m. on Tuesday\, September 6\, 2022. \n
URL:https://metroplanorlando.gov/meetings/metroplan-orlando-closed-in-observance-of-labor-day-08-29-22/
CATEGORIES:Office Closures
END:VEVENT
END:VCALENDAR