BEGIN:VCALENDAR
VERSION:2.0
PRODID:-//MetroPlan Orlando - ECPv4.7.3//NONSGML v1.0//EN
CALSCALE:GREGORIAN
METHOD:PUBLISH
X-ORIGINAL-URL:https://metroplanorlando.gov
X-WR-CALDESC:Events for MetroPlan Orlando
BEGIN:VEVENT
TZID:America/New_York
DTSTART:20210906T080000
DTEND:20210906T170000
DTSTAMP:20260422T232852
CREATED:20210903T123942Z
LAST-MODIFIED:20210903T124029Z
UID:13809-1630915200-1630947600@metroplanorlando.gov
SUMMARY:MetroPlan Orlando Closed in Observance of Labor Day
DESCRIPTION:The MetroPlan Orlando office will be closed today in observance of the Labor Day holiday. We will reopen at 8 a.m. on Tuesday\, September 7\, 2021. \n
URL:https://metroplanorlando.gov/meetings/metroplan-orlando-closed-in-observance-of-labor-day-09-03-21/
CATEGORIES:Office Closures
END:VEVENT
END:VCALENDAR