BEGIN:VCALENDAR
VERSION:2.0
PRODID:-//MetroPlan Orlando - ECPv4.7.3//NONSGML v1.0//EN
CALSCALE:GREGORIAN
METHOD:PUBLISH
X-ORIGINAL-URL:https://metroplanorlando.gov
X-WR-CALDESC:Events for MetroPlan Orlando
BEGIN:VEVENT
TZID:America/New_York
DTSTART:20230102T080000
DTEND:20230102T170000
DTSTAMP:20260422T162900
CREATED:20221223T180326Z
LAST-MODIFIED:20221223T180419Z
UID:16547-1672646400-1672678800@metroplanorlando.gov
SUMMARY:MetroPlan Orlando Closed in Observance of New Year's Day Holiday
DESCRIPTION:MetroPlan Orlando will observe the New Year’s Day holiday on January 2. During that time\, our staff will not be available either at our office or virtually. We will resume operations at 8 a.m.\, on Tuesday\, Jan. 3. \n
URL:https://metroplanorlando.gov/meetings/metroplan-orlando-closed-in-observance-of-new-years-day-holiday-01-01-21/
CATEGORIES:Office Closures
END:VEVENT
END:VCALENDAR