BEGIN:VCALENDAR
VERSION:2.0
PRODID:-//MetroPlan Orlando - ECPv4.7.3//NONSGML v1.0//EN
CALSCALE:GREGORIAN
METHOD:PUBLISH
X-ORIGINAL-URL:https://metroplanorlando.gov
X-WR-CALDESC:Events for MetroPlan Orlando
BEGIN:VEVENT
DTSTART;VALUE=DATE:20200120
DTEND;VALUE=DATE:20200121
DTSTAMP:20260424T061406
CREATED:20191230T181648Z
LAST-MODIFIED:20200103T210139Z
UID:9234-1579478400-1579564799@metroplanorlando.gov
SUMMARY:MetroPlan Orlando Office Closed in Observance of Holiday
DESCRIPTION:The MetroPlan Orlando office will be closed on Monday\, Jan. 20\, in observance of Dr. Martin Luther King Jr. Day. The office will reopen at 8 a.m. on Tuesday\, Jan. 21. \n
URL:https://metroplanorlando.gov/meetings/metroplan-orlando-office-closed-in-observance-of-holiday-01-21-20/
CATEGORIES:Office Closures
END:VEVENT
END:VCALENDAR