BEGIN:VCALENDAR
VERSION:2.0
PRODID:-//MetroPlan Orlando - ECPv4.7.3//NONSGML v1.0//EN
CALSCALE:GREGORIAN
METHOD:PUBLISH
X-ORIGINAL-URL:https://metroplanorlando.gov
X-WR-CALDESC:Events for MetroPlan Orlando
BEGIN:VEVENT
TZID:America/New_York
DTSTART:20200703T080000
DTEND:20200705T170000
DTSTAMP:20260423T205830
CREATED:20200629T154218Z
LAST-MODIFIED:20200629T154218Z
UID:10616-1593763200-1593968400@metroplanorlando.gov
SUMMARY:MetroPlan Orlando Office Closed in Observance of Independence Day Holiday
DESCRIPTION:The MetroPlan Orlando office will be closed Friday in observance of the Independence Day holiday. We will reopen at 8 a.m. on Monday\, July 6\, 2020. Have a safe holiday. \n
URL:https://metroplanorlando.gov/meetings/metroplan-orlando-office-closed-in-observance-of-independence-day-holiday-06-29-20/
CATEGORIES:Office Closures
END:VEVENT
END:VCALENDAR