BEGIN:VCALENDAR
VERSION:2.0
PRODID:-//MetroPlan Orlando - ECPv4.7.3//NONSGML v1.0//EN
CALSCALE:GREGORIAN
METHOD:PUBLISH
X-ORIGINAL-URL:https://metroplanorlando.gov
X-WR-CALDESC:Events for MetroPlan Orlando
BEGIN:VEVENT
TZID:America/New_York
DTSTART:20201126T080000
DTEND:20201127T170000
DTSTAMP:20260423T123413
CREATED:20201123T171448Z
LAST-MODIFIED:20201123T172653Z
UID:11755-1606377600-1606496400@metroplanorlando.gov
SUMMARY:MetroPlan Orlando Office Closed in Observance of Thanksgiving
DESCRIPTION:MetroPlan Orlando will observe the Thanksgiving holiday Nov. 26-27. During that time\, our staff will not be available either at our office or virtually. We will resume operations at 8 a.m.\, on Monday\, Nov. 30.\n
URL:https://metroplanorlando.gov/meetings/metroplan-orlando-office-closed-in-observance-of-thanksgiving-11-26-20/
CATEGORIES:Office Closures
END:VEVENT
END:VCALENDAR