BEGIN:VCALENDAR
VERSION:2.0
PRODID:-//MetroPlan Orlando - ECPv4.7.3//NONSGML v1.0//EN
CALSCALE:GREGORIAN
METHOD:PUBLISH
X-ORIGINAL-URL:https://metroplanorlando.gov
X-WR-CALDESC:Events for MetroPlan Orlando
BEGIN:VEVENT
TZID:America/New_York
DTSTART:20220704T080000
DTEND:20220704T163000
DTSTAMP:20260422T083501
CREATED:20220630T200631Z
LAST-MODIFIED:20220630T200739Z
UID:15765-1656921600-1656952200@metroplanorlando.gov
SUMMARY:MetroPlan Orlando Office Closed to Observe Independence Day
DESCRIPTION:MetroPlan Orlando will be closed in observance of the Independence Day holiday on Monday\, July 4. We will resume normal operations at 8 a.m. on Tuesday\, July 5. Please have a safe and happy holiday. \n
URL:https://metroplanorlando.gov/meetings/metroplan-orlando-office-closed-to-observe-independence-day-07-05-21/
CATEGORIES:Office Closures
END:VEVENT
END:VCALENDAR