BEGIN:VCALENDAR
VERSION:2.0
PRODID:-//MetroPlan Orlando - ECPv4.7.3//NONSGML v1.0//EN
CALSCALE:GREGORIAN
METHOD:PUBLISH
X-ORIGINAL-URL:https://metroplanorlando.gov
X-WR-CALDESC:Events for MetroPlan Orlando
BEGIN:VEVENT
TZID:America/New_York
DTSTART:20221103T093000
DTEND:20221103T110000
DTSTAMP:20260422T102537
CREATED:20211213T170025Z
LAST-MODIFIED:20221229T140146Z
UID:14477-1667467800-1667473200@metroplanorlando.gov
SUMMARY:Municipal Advisory Committee
DESCRIPTION:The Municipal Advisory Committee (MAC) ensures the views of elected officials from cities that do not have direct representation on the board are a part of the transportation decision-making process. \nVIRTUAL PUBLIC ACCESS \n\nPlease click the link below to join the webinar:\nhttps://us02web.zoom.us/j/84805922747?pwd=ZWhBSkdNYW42bmJOQ2NneXJtNXRhQT09\nPasscode: 789382Or Telephone:\nUS: +1 646 931 3860 or +1 929 436 2866 or +1 301 715 8592\nWebinar ID: 848 0592 2747\nPasscode: 789382\n\nMaking Public Comments \nIf you’d like to make a public comment at this meeting\, please fill out a Speaker Card ahead of time (MetroPlanOrlando.org/SpeakerCard) to let MetroPlan Orlando staff know whether you will be making your comment from a virtual setting or whether you plan on attending in person. This will help us facilitate a more seamless\, touchless process for commenting. \nVisit our virtual meetings page for resources on how to get the app ahead of time and be ready for the meeting. \n
URL:https://metroplanorlando.gov/meetings/municipal-advisory-committee-11-03-22/
LOCATION:MetroPlan Orlando Boardroom/Virtual Public Access\, 250 S. Orange Ave.\, Suite 200\, Orlando\, FL\, 32801
CATEGORIES:Committees,Municipal Advisory Committee
ORGANIZER;CN="Rachel%20Frederick":MAILTO:Rachel.Frederick@MetroPlanOrlando.gov
END:VEVENT
END:VCALENDAR