BEGIN:VCALENDAR
VERSION:2.0
PRODID:-//MetroPlan Orlando - ECPv4.7.3//NONSGML v1.0//EN
CALSCALE:GREGORIAN
METHOD:PUBLISH
X-ORIGINAL-URL:https://metroplanorlando.gov
X-WR-CALDESC:Events for MetroPlan Orlando
BEGIN:VEVENT
TZID:America/New_York
DTSTART:20200525T080000
DTEND:20200525T170000
DTSTAMP:20260424T002546
CREATED:20200525T125825Z
LAST-MODIFIED:20200525T125825Z
UID:10389-1590393600-1590426000@metroplanorlando.gov
SUMMARY:Office Closed for Memorial Day
DESCRIPTION:MetroPlan Orlando will observe the Memorial Day holiday. No business will be conducted. Although the physical office remains closed to the public\, business will resume remotely at 8 a.m. on Tuesday\, May 26. \n
URL:https://metroplanorlando.gov/meetings/office-closed-for-memorial-day-05-25-20/
CATEGORIES:Office Closures
END:VEVENT
END:VCALENDAR