BEGIN:VCALENDAR
VERSION:2.0
PRODID:-//MetroPlan Orlando - ECPv4.7.3//NONSGML v1.0//EN
CALSCALE:GREGORIAN
METHOD:PUBLISH
X-ORIGINAL-URL:https://metroplanorlando.gov
X-WR-CALDESC:Events for MetroPlan Orlando
BEGIN:VEVENT
TZID:America/New_York
DTSTART:20241101T103000
DTEND:20241101T120000
DTSTAMP:20260421T225426
CREATED:20241011T151253Z
LAST-MODIFIED:20241029T124331Z
UID:20870-1730457000-1730462400@metroplanorlando.gov
SUMMARY:Orange County - 2050 MTP Needs Assessment Coordination Meeting #3
DESCRIPTION:\nCoordination meeting to review a final draft of the 2050 Metropolitan Transportation Plan’s Needs Assessment. For more information\, please contact Taylor Laurent at Taylor.Laurent@MetroPlanOrlando.gov or (407) 481-5672 \nThis is a virtual meeting. \nPlease click on the link below to join the meeting:  \nhttps://us02web.zoom.us/j/88032507092?pwd=YZ1JytyNwhDAxeOuf8NapIsjG6M9As.1\nPasscode: 701052 \nOr Telephone:\n+1 305 224 1968\n+1 646 931 3860\n+1 929 436 2866 \nWebinar ID: 880 3250 7092\nPasscode: 701052 \n  \n\n\n\n\n\n\n\n
URL:https://metroplanorlando.gov/meetings/orange-county-2050-mtp-needs-assessment-coordination-meeting-3-11-01-24/
LOCATION:Virutal Meeting
CATEGORIES:Other Meetings
ORGANIZER;CN="Rachel%20Frederick":MAILTO:Rachel.Frederick@MetroPlanOrlando.gov
END:VEVENT
END:VCALENDAR