BEGIN:VCALENDAR
VERSION:2.0
PRODID:-//MetroPlan Orlando - ECPv4.7.3//NONSGML v1.0//EN
CALSCALE:GREGORIAN
METHOD:PUBLISH
X-ORIGINAL-URL:https://metroplanorlando.gov
X-WR-CALDESC:Events for MetroPlan Orlando
BEGIN:VEVENT
TZID:America/New_York
DTSTART:20171128T130000
DTEND:20171128T140000
DTSTAMP:20260422T051316
CREATED:20171106T221537Z
LAST-MODIFIED:20171106T221727Z
UID:5912-1511874000-1511877600@metroplanorlando.gov
SUMMARY:Orlando Sanford International Airport Meeting
DESCRIPTION:The purpose of this meeting is to discuss future access improvements to Orlando Sanford International Airport. Attendees will include two or more MetroPlan Orlando Board members (Commissioner Bob Dallari and Mr. Stephen Smith)\, Sanford Airport Authority staff\, and MetroPlan Orlando staff. This meeting is being posted to comply with Florida’s Government-in-the-Sunshine laws. For more information\, please call MetroPlan Orlando at 407-481-5672. \n
URL:https://metroplanorlando.gov/meetings/orlando-sanford-international-airport-meeting-11-28-17/
LOCATION:Sanford Airport Authority Offices at Orlando Sanford International Airport\, 1200 Red Cleveland Boulevard\, Sanford\, FL\, 32773\, United States
GEO:28.7755261;-81.2435838
X-APPLE-STRUCTURED-LOCATION;VALUE=URI;X-ADDRESS=Sanford Airport Authority Offices at Orlando Sanford International Airport 1200 Red Cleveland Boulevard Sanford FL 32773 United States;X-APPLE-RADIUS=500;X-TITLE=1200 Red Cleveland Boulevard:geo:-81.2435838,28.7755261
CATEGORIES:Other Meetings
ORGANIZER;CN="Rachel%20Frederick":MAILTO:Rachel.Frederick@MetroPlanOrlando.gov
END:VEVENT
END:VCALENDAR