BEGIN:VCALENDAR
VERSION:2.0
PRODID:-//MetroPlan Orlando - ECPv4.7.3//NONSGML v1.0//EN
CALSCALE:GREGORIAN
METHOD:PUBLISH
X-ORIGINAL-URL:https://metroplanorlando.gov
X-WR-CALDESC:Events for MetroPlan Orlando
BEGIN:VEVENT
TZID:America/New_York
DTSTART:20200804T140000
DTEND:20200804T160000
DTSTAMP:20260421T102404
CREATED:20200713T165243Z
LAST-MODIFIED:20200813T175351Z
UID:10713-1596549600-1596556800@metroplanorlando.gov
SUMMARY:Pedestrian & Bicyclist Safety Action Plan Working Group Meeting
DESCRIPTION:This is the first working group meeting for Phase 2 of the MetroPlan Orlando Pedestrian & Bicyclist Safety Action Plan. This meeting will focus on the Osceola County corridors identified and studied in Phase 1. This meeting will be held remotely\, through the Zoom web conferencing platform\, to align with federal and state guidance on public events.\n________________________________________________________________\n**The public access links for this meeting have expired.** \nPUBLIC ACCESS \nPlease click the link below to join the webinar: \nhttps://us02web.zoom.us/j/84877389811?pwd=ZXJMQnVBWkQrUW15dHlzZjFFRnN4UT09\nPassword: 670754 \nOr Telephone:\nUS: +1 929 436 2866 or +1 301 715 8592 or +1 312 626 6799\nWebinar ID: 848 7738 9811\nPassword: 670754 \nThe MetroPlan Orlando offices are closed to the public\, however members of the public may access this virtual meeting and participate via the Zoom link above\, or by dialing in. \nNew to Zoom? Visit our virtual meetings page for resources on how to get the app ahead of time and be ready for the meeting. For technical support during the meeting\, use the Raise Hand function (located in the Participants tab) to be contacted by a meeting moderator. \n  \n
URL:https://metroplanorlando.gov/meetings/pedestrian-bicyclist-safety-action-plan-working-group-meeting-08-04-20/
LOCATION:Virtual Meeting
CATEGORIES:Other Meetings
END:VEVENT
END:VCALENDAR