BEGIN:VCALENDAR
VERSION:2.0
PRODID:-//MetroPlan Orlando - ECPv4.7.3//NONSGML v1.0//EN
CALSCALE:GREGORIAN
METHOD:PUBLISH
X-ORIGINAL-URL:https://metroplanorlando.gov
X-WR-CALDESC:Events for MetroPlan Orlando
BEGIN:VEVENT
TZID:America/New_York
DTSTART:20200812T140000
DTEND:20200812T150000
DTSTAMP:20260421T084324
CREATED:20200725T141236Z
LAST-MODIFIED:20200806T144648Z
UID:10758-1597240800-1597244400@metroplanorlando.gov
SUMMARY:Planning for 2045 Webinar
DESCRIPTION: \nWe want to involve as many Central Floridians as possible in creating a vision for our transportation system. Planning for the future requires input from everyone. We are hosting our Planning for 2045 webinar\, where we will focus on reaching out to local community groups and gathering feedback. \nWe will be using the Zoom web conferencing platform for the meeting\, and it will be live-streamed on our YouTube channel. The webinar will feature a presentation on our 2045 Plan \, and there will be time for questions and comments from the public. Click here for free meeting registration. \n \n
URL:https://metroplanorlando.gov/meetings/planning-for-2045-webinar-08-12-20/
LOCATION:Virtual Meeting
CATEGORIES:Other Meetings
END:VEVENT
END:VCALENDAR